

BEGIN:VCALENDAR
VERSION:2.0
PRODID:-//STAFFSANTÉ - ECPv6.1.3//NONSGML v1.0//EN
CALSCALE:GREGORIAN
METHOD:PUBLISH
X-WR-CALNAME:STAFFSANTÉ
X-ORIGINAL-URL:https://www.staffsante.fr/contenu
X-WR-CALDESC:évènements pour STAFFSANTÉ
REFRESH-INTERVAL;VALUE=DURATION:PT1H
X-Robots-Tag:noindex
X-PUBLISHED-TTL:PT1H
BEGIN:VTIMEZONE
TZID:Europe/Paris
BEGIN:DAYLIGHT
TZOFFSETFROM:+0100
TZOFFSETTO:+0200
TZNAME:CEST
DTSTART:20240331T010000
END:DAYLIGHT
BEGIN:STANDARD
TZOFFSETFROM:+0200
TZOFFSETTO:+0100
TZNAME:CET
DTSTART:20241027T010000
END:STANDARD
END:VTIMEZONE
BEGIN:VEVENT
DTSTART;TZID=Europe/Paris:20241113T080000
DTEND;TZID=Europe/Paris:20241215T170000
DTSTAMP:20260420T000546
CREATED:20241023T082534Z
LAST-MODIFIED:20241023T082534Z
UID:10000179-1731484800-1734282000@www.staffsante.fr
SUMMARY:AFDS 2024 - 22èmes journées nationales d'étude des directeurs des soins
DESCRIPTION:Les 22èmes journées nationales d’étude des Directeurs des soins auront lieu les mercredi 13\, jeudi 14 et vendredi 15 novembre 2024 à la Cité des Congrès de Nantes. \nCette année\, les échanges porteront sur la thématique : “Managers explorateurs et défis en santé : une aventure humaine”. \nCliquez ici pour vous inscrire et découvrir le programme.
URL:https://www.staffsante.fr/contenu/evenement/afds-2024-22emes-journees-nationales-detude-des-directeurs-des-soins/
LOCATION:Cité des Congrès\, 5 rue de Valmy\, Nantes\, 44000
ATTACH;FMTTYPE=image/png:https://content.staffsante.fr/wp-content/uploads/2024/10/afds.png
END:VEVENT
END:VCALENDAR