

BEGIN:VCALENDAR
VERSION:2.0
PRODID:-//STAFFSANTÉ - ECPv6.1.3//NONSGML v1.0//EN
CALSCALE:GREGORIAN
METHOD:PUBLISH
X-WR-CALNAME:STAFFSANTÉ
X-ORIGINAL-URL:https://www.staffsante.fr/contenu
X-WR-CALDESC:évènements pour STAFFSANTÉ
REFRESH-INTERVAL;VALUE=DURATION:PT1H
X-Robots-Tag:noindex
X-PUBLISHED-TTL:PT1H
BEGIN:VTIMEZONE
TZID:Europe/Paris
BEGIN:DAYLIGHT
TZOFFSETFROM:+0100
TZOFFSETTO:+0200
TZNAME:CEST
DTSTART:20240331T010000
END:DAYLIGHT
BEGIN:STANDARD
TZOFFSETFROM:+0200
TZOFFSETTO:+0100
TZNAME:CET
DTSTART:20241027T010000
END:STANDARD
END:VTIMEZONE
BEGIN:VEVENT
DTSTART;VALUE=DATE:20241116
DTEND;VALUE=DATE:20241117
DTSTAMP:20260419T190518
CREATED:20241023T084305Z
LAST-MODIFIED:20241023T084305Z
UID:10000180-1731715200-1731801599@www.staffsante.fr
SUMMARY:[ Journée portes ouvertes ] Découvrir les métiers de la santé et du social
DESCRIPTION:Le samedi 16 novembre 2024\, l’ensemble des établissements Croix-Rouge Compétence ouvrent leurs portes. Venez à la rencontre des formateurs et des apprenants et posez toutes vos questions. \nProfitez-en pour : \n\nposer vos questions en direct aux formateurs et étudiants\nvous informer sur les 30 métiers du sanitaire\, du social et du médico-social\nvisiter et tester les équipements techniques innovants\n\nCliquez ici pour en savoir plus et découvrir l’établissement près de chez vous
URL:https://www.staffsante.fr/contenu/evenement/journee-portes-ouvertes-decouvrir-les-metiers-de-la-sante-et-du-social/
ATTACH;FMTTYPE=image/png:https://content.staffsante.fr/wp-content/uploads/2024/10/croisrouge.png
END:VEVENT
END:VCALENDAR