

BEGIN:VCALENDAR
VERSION:2.0
PRODID:-//STAFFSANTÉ - ECPv6.1.3//NONSGML v1.0//EN
CALSCALE:GREGORIAN
METHOD:PUBLISH
X-ORIGINAL-URL:https://www.staffsante.fr/contenu
X-WR-CALDESC:évènements pour STAFFSANTÉ
REFRESH-INTERVAL;VALUE=DURATION:PT1H
X-Robots-Tag:noindex
X-PUBLISHED-TTL:PT1H
BEGIN:VTIMEZONE
TZID:Europe/Paris
BEGIN:DAYLIGHT
TZOFFSETFROM:+0100
TZOFFSETTO:+0200
TZNAME:CEST
DTSTART:20240331T010000
END:DAYLIGHT
BEGIN:STANDARD
TZOFFSETFROM:+0200
TZOFFSETTO:+0100
TZNAME:CET
DTSTART:20241027T010000
END:STANDARD
END:VTIMEZONE
BEGIN:VEVENT
DTSTART;TZID=Europe/Paris:20241130T100000
DTEND;TZID=Europe/Paris:20241130T160000
DTSTAMP:20260420T013538
CREATED:20241023T085632Z
LAST-MODIFIED:20241023T085758Z
UID:10000182-1732960800-1732982400@www.staffsante.fr
SUMMARY:[ Portes ouvertes ] IRTS Paris
DESCRIPTION:L’IRTS Parmentier\, c’est l’école du travail social incontournable du secteur présente sur 3 campus (Paris 10ᵉ\, Melun et Avon dans le 77). L’IRTS Paris Parmentier ouvre ses portes le 30 novembre de 10h à 16h. L’occasion de découvrir les métiers du social et les formations proposées ! \nInscriptions obligatoires ici \n 
URL:https://www.staffsante.fr/contenu/evenement/portes-ouvertes-irts-paris/
LOCATION:IRTS Paris Parmentier\, 145 avenue Parmentier\, Paris\, 75010
ATTACH;FMTTYPE=image/png:https://content.staffsante.fr/wp-content/uploads/2024/10/irts-paris.png
END:VEVENT
END:VCALENDAR